BEGIN:VCALENDAR
VERSION:2.0
PRODID:dornbirnplus.eu
X-PUBLISHED-TTL:P1W
BEGIN:VEVENT
UID:69ebbd88bdbe5
DTSTART:20190622T170000Z
SEQUENCE:0
TRANSP:OPAQUE
DTEND:20190622T183000Z
SUMMARY:Preisverleihung „6. Hohenemser Literaturpreis für deutschsprachi
 ge Autor/innen nichtdeutscher Muttersprache“
CLASS:PUBLIC
DTSTAMP:20260424T205920Z
END:VEVENT
END:VCALENDAR