BEGIN:VCALENDAR
VERSION:2.0
PRODID:dornbirnplus.eu
X-PUBLISHED-TTL:P1W
BEGIN:VEVENT
UID:69ebbcb95d6bc
DTSTART:20190608T183000Z
SEQUENCE:0
TRANSP:OPAQUE
DTEND:20190608T200000Z
SUMMARY:tanz ist Festival: Liquid Loft / Chris Haring (A) – Foreign Tongu
 es – Babylon (Slang)
CLASS:PUBLIC
DTSTAMP:20260424T205553Z
END:VEVENT
END:VCALENDAR