BEGIN:VCALENDAR
VERSION:2.0
PRODID:dornbirnplus.eu
X-PUBLISHED-TTL:P1W
BEGIN:VEVENT
UID:69ebbe25e048f
DTSTART:20210325T132107Z
SEQUENCE:0
TRANSP:OPAQUE
DTEND:20210326T132107Z
SUMMARY:The First Room. Geburtskultur trifft Architektur
CLASS:PUBLIC
DTSTAMP:20260424T210157Z
END:VEVENT
END:VCALENDAR