BEGIN:VCALENDAR
VERSION:2.0
PRODID:dornbirnplus.eu
X-PUBLISHED-TTL:P1W
BEGIN:VEVENT
UID:69ebbddacbecb
DTSTART:20210329T160000Z
SEQUENCE:0
TRANSP:OPAQUE
DTEND:20210329T173000Z
SUMMARY:LITERARISCHER SALON: \"FEHLSTART\" - MARION MESSINA
CLASS:PUBLIC
DTSTAMP:20260424T210042Z
END:VEVENT
END:VCALENDAR