BEGIN:VCALENDAR
VERSION:2.0
PRODID:dornbirnplus.eu
X-PUBLISHED-TTL:P1W
BEGIN:VEVENT
UID:69ebbde68ff7c
DTSTART:20210405T090000Z
SEQUENCE:0
TRANSP:OPAQUE
DTEND:20210405T103000Z
SUMMARY:BLUDENZ ERLEBEN: JAZZ-MATINÉE
CLASS:PUBLIC
DTSTAMP:20260424T210054Z
END:VEVENT
END:VCALENDAR