BEGIN:VCALENDAR
VERSION:2.0
PRODID:dornbirnplus.eu
X-PUBLISHED-TTL:P1W
BEGIN:VEVENT
UID:69ebbce2bd702
DTSTART:20190612T183000Z
SEQUENCE:0
TRANSP:OPAQUE
DTEND:20190612T200000Z
SUMMARY:tanz ist Festival: Redouan Ait Chitt und Shailesh Bahoran
CLASS:PUBLIC
DTSTAMP:20260424T205634Z
END:VEVENT
END:VCALENDAR