BEGIN:VCALENDAR
VERSION:2.0
PRODID:dornbirnplus.eu
X-PUBLISHED-TTL:P1W
BEGIN:VEVENT
UID:69ebbddb5cbe0
DTSTART:20210428T160000Z
SEQUENCE:0
TRANSP:OPAQUE
DTEND:20210428T173000Z
SUMMARY:TANZ.ART: TANGO ARGENTINO… EINE UMARMUNG IN SICH VERÄNDERNDEN ZE
 ITEN
CLASS:PUBLIC
DTSTAMP:20260424T210043Z
END:VEVENT
END:VCALENDAR