BEGIN:VCALENDAR
VERSION:2.0
PRODID:dornbirnplus.eu
X-PUBLISHED-TTL:P1W
BEGIN:VEVENT
UID:69ebbd8887e06
DTSTART:20210425T160000Z
SEQUENCE:0
TRANSP:OPAQUE
DTEND:20210425T173000Z
SUMMARY:WUNSCHLOSES UNGLÜCK von Peter Handke
CLASS:PUBLIC
DTSTAMP:20260424T205920Z
END:VEVENT
END:VCALENDAR