BEGIN:VCALENDAR
VERSION:2.0
PRODID:dornbirnplus.eu
X-PUBLISHED-TTL:P1W
BEGIN:VEVENT
UID:69ebbde064889
DTSTART:20210325T111500Z
SEQUENCE:0
TRANSP:OPAQUE
DTEND:20210325T123000Z
SUMMARY:Belle époque – Harfenklasse Viktor Hartobanu
CLASS:PUBLIC
DTSTAMP:20260424T210048Z
END:VEVENT
END:VCALENDAR