BEGIN:VCALENDAR
VERSION:2.0
PRODID:dornbirnplus.eu
X-PUBLISHED-TTL:P1W
BEGIN:VEVENT
UID:69ebbe0a722a6
DTSTART:20210417T170712Z
SEQUENCE:0
TRANSP:OPAQUE
DTEND:20210704T170712Z
SUMMARY:Pamela Rosenkranz
CLASS:PUBLIC
DTSTAMP:20260424T210130Z
END:VEVENT
END:VCALENDAR