BEGIN:VCALENDAR
VERSION:2.0
PRODID:dornbirnplus.eu
X-PUBLISHED-TTL:P1W
BEGIN:VEVENT
UID:69ebbe39798f6
DTSTART:20210413T170000Z
SEQUENCE:0
TRANSP:OPAQUE
DTEND:20210413T183000Z
SUMMARY:Paris – Vorderwald: Vier Wochen lang ausprobieren\, was die Weltp
 olitik in Paris beschlossen hat\"
CLASS:PUBLIC
DTSTAMP:20260424T210217Z
END:VEVENT
END:VCALENDAR