BEGIN:VCALENDAR
VERSION:2.0
PRODID:dornbirnplus.eu
X-PUBLISHED-TTL:P1W
BEGIN:VEVENT
UID:69ebbcc3ab7ef
DTSTART:20210424T080000Z
SEQUENCE:0
TRANSP:OPAQUE
DTEND:20210424T090000Z
SUMMARY:Marion Hofer präsentiert: Bäume voller Geheimnisse
CLASS:PUBLIC
DTSTAMP:20260424T205603Z
END:VEVENT
END:VCALENDAR