BEGIN:VCALENDAR
VERSION:2.0
PRODID:dornbirnplus.eu
X-PUBLISHED-TTL:P1W
BEGIN:VEVENT
UID:69ebbd3bd00dc
DTSTART:20190618T173000Z
SEQUENCE:0
TRANSP:OPAQUE
DTEND:20190618T190000Z
SUMMARY:Disappearances
CLASS:PUBLIC
DTSTAMP:20260424T205803Z
END:VEVENT
END:VCALENDAR