BEGIN:VCALENDAR
VERSION:2.0
PRODID:dornbirnplus.eu
X-PUBLISHED-TTL:P1W
BEGIN:VEVENT
UID:69ebbbff0db99
DTSTART:20190605T160000Z
SEQUENCE:0
TRANSP:OPAQUE
DTEND:20190605T160000Z
SUMMARY:Drei Gesichter – Se Rokh
CLASS:PUBLIC
DTSTAMP:20260424T205247Z
END:VEVENT
END:VCALENDAR