BEGIN:VCALENDAR
VERSION:2.0
PRODID:dornbirnplus.eu
X-PUBLISHED-TTL:P1W
BEGIN:VEVENT
UID:69ebbda352146
DTSTART:20190707T140000Z
SEQUENCE:0
TRANSP:OPAQUE
DTEND:20190707T160000Z
SUMMARY:Living Fabrics
CLASS:PUBLIC
DTSTAMP:20260424T205947Z
END:VEVENT
END:VCALENDAR