BEGIN:VCALENDAR
VERSION:2.0
PRODID:dornbirnplus.eu
X-PUBLISHED-TTL:P1W
BEGIN:VEVENT
UID:69ebbc6624ed0
DTSTART:20190707T090000Z
SEQUENCE:0
TRANSP:OPAQUE
DTEND:20190707T100000Z
SUMMARY:Re-enactment | Jannis Kounellis\, Senza titolo (Da inventare sul po
 sto)
CLASS:PUBLIC
DTSTAMP:20260424T205430Z
END:VEVENT
END:VCALENDAR