BEGIN:VCALENDAR
VERSION:2.0
PRODID:dornbirnplus.eu
X-PUBLISHED-TTL:P1W
BEGIN:VEVENT
UID:69ebbba8484c0
DTSTART:20190809T180000Z
SEQUENCE:0
TRANSP:OPAQUE
DTEND:20190809T200000Z
SUMMARY:Tito & Tarantula
CLASS:PUBLIC
DTSTAMP:20260424T205120Z
END:VEVENT
END:VCALENDAR