BEGIN:VCALENDAR
VERSION:2.0
PRODID:dornbirnplus.eu
X-PUBLISHED-TTL:P1W
BEGIN:VEVENT
UID:69ebbe25664e0
DTSTART:20190702T180000Z
SEQUENCE:0
TRANSP:OPAQUE
DTEND:20190702T193000Z
SUMMARY:Michael Wex: Who Says it has to Taste Good. How Food Becomes Jewish
CLASS:PUBLIC
DTSTAMP:20260424T210157Z
END:VEVENT
END:VCALENDAR