BEGIN:VCALENDAR
VERSION:2.0
PRODID:dornbirnplus.eu
X-PUBLISHED-TTL:P1W
BEGIN:VEVENT
UID:69ebbd35765e9
DTSTART:20190830T180000Z
SEQUENCE:0
TRANSP:OPAQUE
DTEND:20190830T193000Z
SUMMARY:REMAIN IN LIGHT
CLASS:PUBLIC
DTSTAMP:20260424T205757Z
END:VEVENT
END:VCALENDAR