BEGIN:VCALENDAR
VERSION:2.0
PRODID:dornbirnplus.eu
X-PUBLISHED-TTL:P1W
BEGIN:VEVENT
UID:69ebbde0e06ec
DTSTART:20190804T085636Z
SEQUENCE:0
TRANSP:OPAQUE
DTEND:20190804T085636Z
SUMMARY:Reiseziel Museum
CLASS:PUBLIC
DTSTAMP:20260424T210048Z
END:VEVENT
END:VCALENDAR