BEGIN:VCALENDAR
VERSION:2.0
PRODID:dornbirnplus.eu
X-PUBLISHED-TTL:P1W
BEGIN:VEVENT
UID:69ebbc65856bf
DTSTART:20190904T180000Z
SEQUENCE:0
TRANSP:OPAQUE
DTEND:20190904T193000Z
SUMMARY:„WUT\" von Elfriede Jelinek
CLASS:PUBLIC
DTSTAMP:20260424T205429Z
END:VEVENT
END:VCALENDAR