BEGIN:VCALENDAR
VERSION:2.0
PRODID:dornbirnplus.eu
X-PUBLISHED-TTL:P1W
BEGIN:VEVENT
UID:69ebbe39f280b
DTSTART:20190927T180000Z
SEQUENCE:0
TRANSP:OPAQUE
DTEND:20190927T200000Z
SUMMARY:Unter der Laterne: Die Nacht - Konzert #6
CLASS:PUBLIC
DTSTAMP:20260424T210217Z
END:VEVENT
END:VCALENDAR