BEGIN:VCALENDAR
VERSION:2.0
PRODID:dornbirnplus.eu
X-PUBLISHED-TTL:P1W
BEGIN:VEVENT
UID:69ebbe39798e7
DTSTART:20190901T090000Z
SEQUENCE:0
TRANSP:OPAQUE
DTEND:20190901T100000Z
SUMMARY:Re-enactment | Jannis Kounellis\, Senza titolo (Da inventare sul po
 sto)
CLASS:PUBLIC
DTSTAMP:20260424T210217Z
END:VEVENT
END:VCALENDAR