BEGIN:VCALENDAR
VERSION:2.0
PRODID:dornbirnplus.eu
X-PUBLISHED-TTL:P1W
BEGIN:VEVENT
UID:69ebbce3806c5
DTSTART:20191003T180000Z
SEQUENCE:0
TRANSP:OPAQUE
DTEND:20191003T200000Z
SUMMARY:Flook – Sounding Islands Part 5
CLASS:PUBLIC
DTSTAMP:20260424T205635Z
END:VEVENT
END:VCALENDAR