BEGIN:VCALENDAR
VERSION:2.0
PRODID:dornbirnplus.eu
X-PUBLISHED-TTL:P1W
BEGIN:VEVENT
UID:69ebbbffb513f
DTSTART:20191004T180000Z
SEQUENCE:0
TRANSP:OPAQUE
DTEND:20191004T210000Z
SUMMARY:Jam Session – Open Stage im Oktober
CLASS:PUBLIC
DTSTAMP:20260424T205247Z
END:VEVENT
END:VCALENDAR