BEGIN:VCALENDAR
VERSION:2.0
PRODID:dornbirnplus.eu
X-PUBLISHED-TTL:P1W
BEGIN:VEVENT
UID:69ebbc003c355
DTSTART:20191024T170000Z
SEQUENCE:0
TRANSP:OPAQUE
DTEND:20191024T183000Z
SUMMARY:Lyrik bei FLATZ: Alexander Nitzberg
CLASS:PUBLIC
DTSTAMP:20260424T205248Z
END:VEVENT
END:VCALENDAR