BEGIN:VCALENDAR
VERSION:2.0
PRODID:dornbirnplus.eu
X-PUBLISHED-TTL:P1W
BEGIN:VEVENT
UID:69ebbce305d94
DTSTART:20191015T173000Z
SEQUENCE:0
TRANSP:OPAQUE
DTEND:20191015T190000Z
SUMMARY:Die Misandristinnen
CLASS:PUBLIC
DTSTAMP:20260424T205635Z
END:VEVENT
END:VCALENDAR