BEGIN:VCALENDAR
VERSION:2.0
PRODID:dornbirnplus.eu
X-PUBLISHED-TTL:P1W
BEGIN:VEVENT
UID:69ebbc76c0405
DTSTART:20191017T173000Z
SEQUENCE:0
TRANSP:OPAQUE
DTEND:20191017T190000Z
SUMMARY:Frauen bildet Banden
CLASS:PUBLIC
DTSTAMP:20260424T205446Z
END:VEVENT
END:VCALENDAR