BEGIN:VCALENDAR
VERSION:2.0
PRODID:dornbirnplus.eu
X-PUBLISHED-TTL:P1W
BEGIN:VEVENT
UID:69ebbbf02c3ec
DTSTART:20191128T160000Z
SEQUENCE:0
TRANSP:OPAQUE
DTEND:20191128T190000Z
SUMMARY:PechaKucha Night Feldkirch
CLASS:PUBLIC
DTSTAMP:20260424T205232Z
END:VEVENT
END:VCALENDAR