BEGIN:VCALENDAR
VERSION:2.0
PRODID:dornbirnplus.eu
X-PUBLISHED-TTL:P1W
BEGIN:VEVENT
UID:69ebbcb9dce01
DTSTART:20191107T180000Z
SEQUENCE:0
TRANSP:OPAQUE
DTEND:20191107T193000Z
SUMMARY:Lyrik bei Flatz mit Christian Steinbacher
CLASS:PUBLIC
DTSTAMP:20260424T205553Z
END:VEVENT
END:VCALENDAR