BEGIN:VCALENDAR
VERSION:2.0
PRODID:dornbirnplus.eu
X-PUBLISHED-TTL:P1W
BEGIN:VEVENT
UID:69ebbd2b2c928
DTSTART:20191109T160000Z
SEQUENCE:0
TRANSP:OPAQUE
DTEND:20191109T180000Z
SUMMARY:Sie meinen es politisch! 100 Jahre Frauenwahlrecht in Österreich
CLASS:PUBLIC
DTSTAMP:20260424T205747Z
END:VEVENT
END:VCALENDAR