BEGIN:VCALENDAR
VERSION:2.0
PRODID:dornbirnplus.eu
X-PUBLISHED-TTL:P1W
BEGIN:VEVENT
UID:69ebbc0fd35a6
DTSTART:20191210T190000Z
SEQUENCE:0
TRANSP:OPAQUE
DTEND:20191210T210000Z
SUMMARY:Theater: Chaim & Adolf
CLASS:PUBLIC
DTSTAMP:20260424T205303Z
END:VEVENT
END:VCALENDAR