BEGIN:VCALENDAR
VERSION:2.0
PRODID:dornbirnplus.eu
X-PUBLISHED-TTL:P1W
BEGIN:VEVENT
UID:69ebbc76166bf
DTSTART:20191212T183000Z
SEQUENCE:0
TRANSP:OPAQUE
DTEND:20191212T200000Z
SUMMARY:Neue Spielräume: Unser Mann in Kairo – Von der Partnerschaft mit
  einem Diktator und ihren Folgen
CLASS:PUBLIC
DTSTAMP:20260424T205446Z
END:VEVENT
END:VCALENDAR