BEGIN:VCALENDAR
VERSION:2.0
PRODID:dornbirnplus.eu
X-PUBLISHED-TTL:P1W
BEGIN:VEVENT
UID:69ebbd25830ba
DTSTART:20191215T140000Z
SEQUENCE:0
TRANSP:OPAQUE
DTEND:20191215T160000Z
SUMMARY:Vorarlberger Tag der Menschenrechte 2019
CLASS:PUBLIC
DTSTAMP:20260424T205741Z
END:VEVENT
END:VCALENDAR