BEGIN:VCALENDAR
VERSION:2.0
PRODID:dornbirnplus.eu
X-PUBLISHED-TTL:P1W
BEGIN:VEVENT
UID:69ebbc5f57dea
DTSTART:20191205T190000Z
SEQUENCE:0
TRANSP:OPAQUE
DTEND:20191205T203000Z
SUMMARY:Norbert Dehmke’s Special Choice: My New Standard
CLASS:PUBLIC
DTSTAMP:20260424T205423Z
END:VEVENT
END:VCALENDAR