BEGIN:VCALENDAR
VERSION:2.0
PRODID:dornbirnplus.eu
X-PUBLISHED-TTL:P1W
BEGIN:VEVENT
UID:69ebbddaceb65
DTSTART:20191221T090000Z
SEQUENCE:0
TRANSP:OPAQUE
DTEND:20191221T103000Z
SUMMARY:Winterliche Wunderwerkstatt – Kinderkunst Spezial
CLASS:PUBLIC
DTSTAMP:20260424T210042Z
END:VEVENT
END:VCALENDAR