BEGIN:VCALENDAR
VERSION:2.0
PRODID:dornbirnplus.eu
X-PUBLISHED-TTL:P1W
BEGIN:VEVENT
UID:69ebbcc432655
DTSTART:20191213T150000Z
SEQUENCE:0
TRANSP:OPAQUE
DTEND:20191213T163000Z
SUMMARY:Führung mit Studierenden der Universität Konstanz
CLASS:PUBLIC
DTSTAMP:20260424T205604Z
END:VEVENT
END:VCALENDAR