BEGIN:VCALENDAR
VERSION:2.0
PRODID:dornbirnplus.eu
X-PUBLISHED-TTL:P1W
BEGIN:VEVENT
UID:69ebbc0f5a074
DTSTART:20191202T180000Z
SEQUENCE:0
TRANSP:OPAQUE
DTEND:20191202T200000Z
SUMMARY:Kontaktchor lädt zum \"Offenen Singen\" im Dezember 2019
CLASS:PUBLIC
DTSTAMP:20260424T205303Z
END:VEVENT
END:VCALENDAR