BEGIN:VCALENDAR
VERSION:2.0
PRODID:dornbirnplus.eu
X-PUBLISHED-TTL:P1W
BEGIN:VEVENT
UID:69ebbde74ebc6
DTSTART:20191210T170000Z
SEQUENCE:0
TRANSP:OPAQUE
DTEND:20191210T183000Z
SUMMARY:Europäische Frauen-Statistiken bildnerisch interpretiert
CLASS:PUBLIC
DTSTAMP:20260424T210055Z
END:VEVENT
END:VCALENDAR