BEGIN:VCALENDAR
VERSION:2.0
PRODID:dornbirnplus.eu
X-PUBLISHED-TTL:P1W
BEGIN:VEVENT
UID:69ebbe2529ae5
DTSTART:20191220T190000Z
SEQUENCE:0
TRANSP:OPAQUE
DTEND:20191220T210000Z
SUMMARY:Virtuoso Konzert\, Klavier & Violine - Klasse von Filippo Gorini & 
 Marc Bouchkov
CLASS:PUBLIC
DTSTAMP:20260424T210157Z
END:VEVENT
END:VCALENDAR