BEGIN:VCALENDAR
VERSION:2.0
PRODID:dornbirnplus.eu
X-PUBLISHED-TTL:P1W
BEGIN:VEVENT
UID:69ebbc7ba1f31
DTSTART:20200118T190000Z
SEQUENCE:0
TRANSP:OPAQUE
DTEND:20200118T203000Z
SUMMARY:maschek - Das war 2019
CLASS:PUBLIC
DTSTAMP:20260424T205451Z
END:VEVENT
END:VCALENDAR