BEGIN:VCALENDAR
VERSION:2.0
PRODID:dornbirnplus.eu
X-PUBLISHED-TTL:P1W
BEGIN:VEVENT
UID:69ebbcd966ef6
DTSTART:20200124T183000Z
SEQUENCE:0
TRANSP:OPAQUE
DTEND:20200124T210000Z
SUMMARY:KULTUR.LEBEN: ARTIS QUARTETT WIEN
CLASS:PUBLIC
DTSTAMP:20260424T205625Z
END:VEVENT
END:VCALENDAR