BEGIN:VCALENDAR
VERSION:2.0
PRODID:dornbirnplus.eu
X-PUBLISHED-TTL:P1W
BEGIN:VEVENT
UID:69ebbc0ec47fd
DTSTART:20200220T183000Z
SEQUENCE:0
TRANSP:OPAQUE
DTEND:20200220T200000Z
SUMMARY:Die Unsichtbaren – wir wollen leben
CLASS:PUBLIC
DTSTAMP:20260424T205302Z
END:VEVENT
END:VCALENDAR