BEGIN:VCALENDAR
VERSION:2.0
PRODID:dornbirnplus.eu
X-PUBLISHED-TTL:P1W
BEGIN:VEVENT
UID:69ebbde02688c
DTSTART:20200221T183000Z
SEQUENCE:0
TRANSP:OPAQUE
DTEND:20200221T200000Z
SUMMARY:Die besten ALPINALE Kurzfilme auf Ländle-Tour
CLASS:PUBLIC
DTSTAMP:20260424T210048Z
END:VEVENT
END:VCALENDAR