BEGIN:VCALENDAR
VERSION:2.0
PRODID:dornbirnplus.eu
X-PUBLISHED-TTL:P1W
BEGIN:VEVENT
UID:69ebbbf125903
DTSTART:20200320T190000Z
SEQUENCE:0
TRANSP:OPAQUE
DTEND:20200320T203000Z
SUMMARY::alpenarte: GALA Konzert
CLASS:PUBLIC
DTSTAMP:20260424T205233Z
END:VEVENT
END:VCALENDAR