BEGIN:VCALENDAR
VERSION:2.0
PRODID:dornbirnplus.eu
X-PUBLISHED-TTL:P1W
BEGIN:VEVENT
UID:69ebbc5fc6996
DTSTART:20200308T140000Z
SEQUENCE:0
TRANSP:OPAQUE
DTEND:20200308T153000Z
SUMMARY:4th HUMAN VISION film festival | Eröffnung: VISION Bāzār
CLASS:PUBLIC
DTSTAMP:20260424T205423Z
END:VEVENT
END:VCALENDAR