BEGIN:VCALENDAR
VERSION:2.0
PRODID:dornbirnplus.eu
X-PUBLISHED-TTL:P1W
BEGIN:VEVENT
UID:69ebbba9bf124
DTSTART:20200312T193000Z
SEQUENCE:0
TRANSP:OPAQUE
DTEND:20200312T210000Z
SUMMARY:4th HUMAN VISION film festival | Die Rote Linie
CLASS:PUBLIC
DTSTAMP:20260424T205121Z
END:VEVENT
END:VCALENDAR