BEGIN:VCALENDAR
VERSION:2.0
PRODID:dornbirnplus.eu
X-PUBLISHED-TTL:P1W
BEGIN:VEVENT
UID:69ebbcd8a822f
DTSTART:20200313T190000Z
SEQUENCE:0
TRANSP:OPAQUE
DTEND:20200313T203000Z
SUMMARY:LEBEN IST IMMER LEBENSGEFÄHRLICH
CLASS:PUBLIC
DTSTAMP:20260424T205624Z
END:VEVENT
END:VCALENDAR