BEGIN:VCALENDAR
VERSION:2.0
PRODID:dornbirnplus.eu
X-PUBLISHED-TTL:P1W
BEGIN:VEVENT
UID:69ebbd3540a4b
DTSTART:20200703T155801Z
SEQUENCE:0
TRANSP:OPAQUE
DTEND:20200703T155801Z
SUMMARY:FIS Ski Museum Damüls
CLASS:PUBLIC
DTSTAMP:20260424T205757Z
END:VEVENT
END:VCALENDAR