BEGIN:VCALENDAR
VERSION:2.0
PRODID:dornbirnplus.eu
X-PUBLISHED-TTL:P1W
BEGIN:VEVENT
UID:69ebbc0ed0fb4
DTSTART:20200515T155911Z
SEQUENCE:0
TRANSP:OPAQUE
DTEND:20200515T155911Z
SUMMARY:Bücherei Doren
CLASS:PUBLIC
DTSTAMP:20260424T205302Z
END:VEVENT
END:VCALENDAR